Workbook

Sheet Formations
A1: Journal des formations
A2: Une ligne par formation suivie, par collaborateur. Le bilan se calcule sur l'autre feuille.
A3: Modèle Arkendis — arkendis.com — aide à l'organisation, pas un avis juridique.
A5: Date | B5: Collaborateur | C5: Intitulé | D5: Organisme | E5: Durée (h) | F5: Thème | G5: Compte pour CIF | H5: Compte pour IAS | I5: Compte pour IOBSP | J5: Compte pour Immobilier | K5: LCB-FT | L5: Attestation rangée

Sheet Bilan
A1: Bilan de l'année
A2: Heures faites et reste à faire, par collaborateur et par statut. Ajustez les quotas et l'année.
A3: Modèle Arkendis — arkendis.com — aide à l'organisation, pas un avis juridique.
A5: Année | B5: 2026
A6: Quota CIF (h/an) | B6: 7 | C6: Chiffres de référence à la date du modèle — à vérifier auprès de votre association.
A7: Quota IAS (h/an) | B7: 15
A8: Quota IOBSP (h/an) | B8: 7
A9: Quota Immobilier (h/an) | B9: 14
A11: Collaborateur | B11: CIF faites | C11: CIF reste | D11: IAS faites | E11: IAS reste | F11: IOBSP faites | G11: IOBSP reste | H11: Immobilier faites | I11: Immobilier reste | J11: LCB-FT suivie
B12: =IF($A12="","",SUMPRODUCT((Formations!$B$6:$B$85=$A12)*(YEAR(Formations!$A$6:$A$85)=$B$5)*(Formations!$G$6:$G$85="Oui")*(Formations!$E$6:$E$85))) | C12: =IF($A12="","",MAX(0,$B$6-B12)) | D12: =IF($A12="","",SUMPRODUCT((Formations!$B$6:$B$85=$A12)*(YEAR(Formations!$A$6:$A$85)=$B$5)*(Formations!$H$6:$H$85="Oui")*(Formations!$E$6:$E$85))) | E12: =IF($A12="","",MAX(0,$B$7-D12)) | F12: =IF($A12="","",SUMPRODUCT((Formations!$B$6:$B$85=$A12)*(YEAR(Formations!$A$6:$A$85)=$B$5)*(Formations!$I$6:$I$85="Oui")*(Formations!$E$6:$E$85))) | G12: =IF($A12="","",MAX(0,$B$8-F12)) | H12: =IF($A12="","",SUMPRODUCT((Formations!$B$6:$B$85=$A12)*(YEAR(Formations!$A$6:$A$85)=$B$5)*(Formations!$J$6:$J$85="Oui")*(Formations!$E$6:$E$85))) | I12: =IF($A12="","",MAX(0,$B$9-H12)) | J12: =IF($A12="","",IF(SUMPRODUCT((Formations!$B$6:$B$85=$A12)*(YEAR(Formations!$A$6:$A$85)=$B$5)*(Formations!$K$6:$K$85="Oui"))>0,"Oui","Non"))
B13: =IF($A13="","",SUMPRODUCT((Formations!$B$6:$B$85=$A13)*(YEAR(Formations!$A$6:$A$85)=$B$5)*(Formations!$G$6:$G$85="Oui")*(Formations!$E$6:$E$85))) | C13: =IF($A13="","",MAX(0,$B$6-B13)) | D13: =IF($A13="","",SUMPRODUCT((Formations!$B$6:$B$85=$A13)*(YEAR(Formations!$A$6:$A$85)=$B$5)*(Formations!$H$6:$H$85="Oui")*(Formations!$E$6:$E$85))) | E13: =IF($A13="","",MAX(0,$B$7-D13)) | F13: =IF($A13="","",SUMPRODUCT((Formations!$B$6:$B$85=$A13)*(YEAR(Formations!$A$6:$A$85)=$B$5)*(Formations!$I$6:$I$85="Oui")*(Formations!$E$6:$E$85))) | G13: =IF($A13="","",MAX(0,$B$8-F13)) | H13: =IF($A13="","",SUMPRODUCT((Formations!$B$6:$B$85=$A13)*(YEAR(Formations!$A$6:$A$85)=$B$5)*(Formations!$J$6:$J$85="Oui")*(Formations!$E$6:$E$85))) | I13: =IF($A13="","",MAX(0,$B$9-H13)) | J13: =IF($A13="","",IF(SUMPRODUCT((Formations!$B$6:$B$85=$A13)*(YEAR(Formations!$A$6:$A$85)=$B$5)*(Formations!$K$6:$K$85="Oui"))>0,"Oui","Non"))
B14: =IF($A14="","",SUMPRODUCT((Formations!$B$6:$B$85=$A14)*(YEAR(Formations!$A$6:$A$85)=$B$5)*(Formations!$G$6:$G$85="Oui")*(Formations!$E$6:$E$85))) | C14: =IF($A14="","",MAX(0,$B$6-B14)) | D14: =IF($A14="","",SUMPRODUCT((Formations!$B$6:$B$85=$A14)*(YEAR(Formations!$A$6:$A$85)=$B$5)*(Formations!$H$6:$H$85="Oui")*(Formations!$E$6:$E$85))) | E14: =IF($A14="","",MAX(0,$B$7-D14)) | F14: =IF($A14="","",SUMPRODUCT((Formations!$B$6:$B$85=$A14)*(YEAR(Formations!$A$6:$A$85)=$B$5)*(Formations!$I$6:$I$85="Oui")*(Formations!$E$6:$E$85))) | G14: =IF($A14="","",MAX(0,$B$8-F14)) | H14: =IF($A14="","",SUMPRODUCT((Formations!$B$6:$B$85=$A14)*(YEAR(Formations!$A$6:$A$85)=$B$5)*(Formations!$J$6:$J$85="Oui")*(Formations!$E$6:$E$85))) | I14: =IF($A14="","",MAX(0,$B$9-H14)) | J14: =IF($A14="","",IF(SUMPRODUCT((Formations!$B$6:$B$85=$A14)*(YEAR(Formations!$A$6:$A$85)=$B$5)*(Formations!$K$6:$K$85="Oui"))>0,"Oui","Non"))
B15: =IF($A15="","",SUMPRODUCT((Formations!$B$6:$B$85=$A15)*(YEAR(Formations!$A$6:$A$85)=$B$5)*(Formations!$G$6:$G$85="Oui")*(Formations!$E$6:$E$85))) | C15: =IF($A15="","",MAX(0,$B$6-B15)) | D15: =IF($A15="","",SUMPRODUCT((Formations!$B$6:$B$85=$A15)*(YEAR(Formations!$A$6:$A$85)=$B$5)*(Formations!$H$6:$H$85="Oui")*(Formations!$E$6:$E$85))) | E15: =IF($A15="","",MAX(0,$B$7-D15)) | F15: =IF($A15="","",SUMPRODUCT((Formations!$B$6:$B$85=$A15)*(YEAR(Formations!$A$6:$A$85)=$B$5)*(Formations!$I$6:$I$85="Oui")*(Formations!$E$6:$E$85))) | G15: =IF($A15="","",MAX(0,$B$8-F15)) | H15: =IF($A15="","",SUMPRODUCT((Formations!$B$6:$B$85=$A15)*(YEAR(Formations!$A$6:$A$85)=$B$5)*(Formations!$J$6:$J$85="Oui")*(Formations!$E$6:$E$85))) | I15: =IF($A15="","",MAX(0,$B$9-H15)) | J15: =IF($A15="","",IF(SUMPRODUCT((Formations!$B$6:$B$85=$A15)*(YEAR(Formations!$A$6:$A$85)=$B$5)*(Formations!$K$6:$K$85="Oui"))>0,"Oui","Non"))
B16: =IF($A16="","",SUMPRODUCT((Formations!$B$6:$B$85=$A16)*(YEAR(Formations!$A$6:$A$85)=$B$5)*(Formations!$G$6:$G$85="Oui")*(Formations!$E$6:$E$85))) | C16: =IF($A16="","",MAX(0,$B$6-B16)) | D16: =IF($A16="","",SUMPRODUCT((Formations!$B$6:$B$85=$A16)*(YEAR(Formations!$A$6:$A$85)=$B$5)*(Formations!$H$6:$H$85="Oui")*(Formations!$E$6:$E$85))) | E16: =IF($A16="","",MAX(0,$B$7-D16)) | F16: =IF($A16="","",SUMPRODUCT((Formations!$B$6:$B$85=$A16)*(YEAR(Formations!$A$6:$A$85)=$B$5)*(Formations!$I$6:$I$85="Oui")*(Formations!$E$6:$E$85))) | G16: =IF($A16="","",MAX(0,$B$8-F16)) | H16: =IF($A16="","",SUMPRODUCT((Formations!$B$6:$B$85=$A16)*(YEAR(Formations!$A$6:$A$85)=$B$5)*(Formations!$J$6:$J$85="Oui")*(Formations!$E$6:$E$85))) | I16: =IF($A16="","",MAX(0,$B$9-H16)) | J16: =IF($A16="","",IF(SUMPRODUCT((Formations!$B$6:$B$85=$A16)*(YEAR(Formations!$A$6:$A$85)=$B$5)*(Formations!$K$6:$K$85="Oui"))>0,"Oui","Non"))
B17: =IF($A17="","",SUMPRODUCT((Formations!$B$6:$B$85=$A17)*(YEAR(Formations!$A$6:$A$85)=$B$5)*(Formations!$G$6:$G$85="Oui")*(Formations!$E$6:$E$85))) | C17: =IF($A17="","",MAX(0,$B$6-B17)) | D17: =IF($A17="","",SUMPRODUCT((Formations!$B$6:$B$85=$A17)*(YEAR(Formations!$A$6:$A$85)=$B$5)*(Formations!$H$6:$H$85="Oui")*(Formations!$E$6:$E$85))) | E17: =IF($A17="","",MAX(0,$B$7-D17)) | F17: =IF($A17="","",SUMPRODUCT((Formations!$B$6:$B$85=$A17)*(YEAR(Formations!$A$6:$A$85)=$B$5)*(Formations!$I$6:$I$85="Oui")*(Formations!$E$6:$E$85))) | G17: =IF($A17="","",MAX(0,$B$8-F17)) | H17: =IF($A17="","",SUMPRODUCT((Formations!$B$6:$B$85=$A17)*(YEAR(Formations!$A$6:$A$85)=$B$5)*(Formations!$J$6:$J$85="Oui")*(Formations!$E$6:$E$85))) | I17: =IF($A17="","",MAX(0,$B$9-H17)) | J17: =IF($A17="","",IF(SUMPRODUCT((Formations!$B$6:$B$85=$A17)*(YEAR(Formations!$A$6:$A$85)=$B$5)*(Formations!$K$6:$K$85="Oui"))>0,"Oui","Non"))
B18: =IF($A18="","",SUMPRODUCT((Formations!$B$6:$B$85=$A18)*(YEAR(Formations!$A$6:$A$85)=$B$5)*(Formations!$G$6:$G$85="Oui")*(Formations!$E$6:$E$85))) | C18: =IF($A18="","",MAX(0,$B$6-B18)) | D18: =IF($A18="","",SUMPRODUCT((Formations!$B$6:$B$85=$A18)*(YEAR(Formations!$A$6:$A$85)=$B$5)*(Formations!$H$6:$H$85="Oui")*(Formations!$E$6:$E$85))) | E18: =IF($A18="","",MAX(0,$B$7-D18)) | F18: =IF($A18="","",SUMPRODUCT((Formations!$B$6:$B$85=$A18)*(YEAR(Formations!$A$6:$A$85)=$B$5)*(Formations!$I$6:$I$85="Oui")*(Formations!$E$6:$E$85))) | G18: =IF($A18="","",MAX(0,$B$8-F18)) | H18: =IF($A18="","",SUMPRODUCT((Formations!$B$6:$B$85=$A18)*(YEAR(Formations!$A$6:$A$85)=$B$5)*(Formations!$J$6:$J$85="Oui")*(Formations!$E$6:$E$85))) | I18: =IF($A18="","",MAX(0,$B$9-H18)) | J18: =IF($A18="","",IF(SUMPRODUCT((Formations!$B$6:$B$85=$A18)*(YEAR(Formations!$A$6:$A$85)=$B$5)*(Formations!$K$6:$K$85="Oui"))>0,"Oui","Non"))
B19: =IF($A19="","",SUMPRODUCT((Formations!$B$6:$B$85=$A19)*(YEAR(Formations!$A$6:$A$85)=$B$5)*(Formations!$G$6:$G$85="Oui")*(Formations!$E$6:$E$85))) | C19: =IF($A19="","",MAX(0,$B$6-B19)) | D19: =IF($A19="","",SUMPRODUCT((Formations!$B$6:$B$85=$A19)*(YEAR(Formations!$A$6:$A$85)=$B$5)*(Formations!$H$6:$H$85="Oui")*(Formations!$E$6:$E$85))) | E19: =IF($A19="","",MAX(0,$B$7-D19)) | F19: =IF($A19="","",SUMPRODUCT((Formations!$B$6:$B$85=$A19)*(YEAR(Formations!$A$6:$A$85)=$B$5)*(Formations!$I$6:$I$85="Oui")*(Formations!$E$6:$E$85))) | G19: =IF($A19="","",MAX(0,$B$8-F19)) | H19: =IF($A19="","",SUMPRODUCT((Formations!$B$6:$B$85=$A19)*(YEAR(Formations!$A$6:$A$85)=$B$5)*(Formations!$J$6:$J$85="Oui")*(Formations!$E$6:$E$85))) | I19: =IF($A19="","",MAX(0,$B$9-H19)) | J19: =IF($A19="","",IF(SUMPRODUCT((Formations!$B$6:$B$85=$A19)*(YEAR(Formations!$A$6:$A$85)=$B$5)*(Formations!$K$6:$K$85="Oui"))>0,"Oui","Non"))
B20: =IF($A20="","",SUMPRODUCT((Formations!$B$6:$B$85=$A20)*(YEAR(Formations!$A$6:$A$85)=$B$5)*(Formations!$G$6:$G$85="Oui")*(Formations!$E$6:$E$85))) | C20: =IF($A20="","",MAX(0,$B$6-B20)) | D20: =IF($A20="","",SUMPRODUCT((Formations!$B$6:$B$85=$A20)*(YEAR(Formations!$A$6:$A$85)=$B$5)*(Formations!$H$6:$H$85="Oui")*(Formations!$E$6:$E$85))) | E20: =IF($A20="","",MAX(0,$B$7-D20)) | F20: =IF($A20="","",SUMPRODUCT((Formations!$B$6:$B$85=$A20)*(YEAR(Formations!$A$6:$A$85)=$B$5)*(Formations!$I$6:$I$85="Oui")*(Formations!$E$6:$E$85))) | G20: =IF($A20="","",MAX(0,$B$8-F20)) | H20: =IF($A20="","",SUMPRODUCT((Formations!$B$6:$B$85=$A20)*(YEAR(Formations!$A$6:$A$85)=$B$5)*(Formations!$J$6:$J$85="Oui")*(Formations!$E$6:$E$85))) | I20: =IF($A20="","",MAX(0,$B$9-H20)) | J20: =IF($A20="","",IF(SUMPRODUCT((Formations!$B$6:$B$85=$A20)*(YEAR(Formations!$A$6:$A$85)=$B$5)*(Formations!$K$6:$K$85="Oui"))>0,"Oui","Non"))
B21: =IF($A21="","",SUMPRODUCT((Formations!$B$6:$B$85=$A21)*(YEAR(Formations!$A$6:$A$85)=$B$5)*(Formations!$G$6:$G$85="Oui")*(Formations!$E$6:$E$85))) | C21: =IF($A21="","",MAX(0,$B$6-B21)) | D21: =IF($A21="","",SUMPRODUCT((Formations!$B$6:$B$85=$A21)*(YEAR(Formations!$A$6:$A$85)=$B$5)*(Formations!$H$6:$H$85="Oui")*(Formations!$E$6:$E$85))) | E21: =IF($A21="","",MAX(0,$B$7-D21)) | F21: =IF($A21="","",SUMPRODUCT((Formations!$B$6:$B$85=$A21)*(YEAR(Formations!$A$6:$A$85)=$B$5)*(Formations!$I$6:$I$85="Oui")*(Formations!$E$6:$E$85))) | G21: =IF($A21="","",MAX(0,$B$8-F21)) | H21: =IF($A21="","",SUMPRODUCT((Formations!$B$6:$B$85=$A21)*(YEAR(Formations!$A$6:$A$85)=$B$5)*(Formations!$J$6:$J$85="Oui")*(Formations!$E$6:$E$85))) | I21: =IF($A21="","",MAX(0,$B$9-H21)) | J21: =IF($A21="","",IF(SUMPRODUCT((Formations!$B$6:$B$85=$A21)*(YEAR(Formations!$A$6:$A$85)=$B$5)*(Formations!$K$6:$K$85="Oui"))>0,"Oui","Non"))
B22: =IF($A22="","",SUMPRODUCT((Formations!$B$6:$B$85=$A22)*(YEAR(Formations!$A$6:$A$85)=$B$5)*(Formations!$G$6:$G$85="Oui")*(Formations!$E$6:$E$85))) | C22: =IF($A22="","",MAX(0,$B$6-B22)) | D22: =IF($A22="","",SUMPRODUCT((Formations!$B$6:$B$85=$A22)*(YEAR(Formations!$A$6:$A$85)=$B$5)*(Formations!$H$6:$H$85="Oui")*(Formations!$E$6:$E$85))) | E22: =IF($A22="","",MAX(0,$B$7-D22)) | F22: =IF($A22="","",SUMPRODUCT((Formations!$B$6:$B$85=$A22)*(YEAR(Formations!$A$6:$A$85)=$B$5)*(Formations!$I$6:$I$85="Oui")*(Formations!$E$6:$E$85))) | G22: =IF($A22="","",MAX(0,$B$8-F22)) | H22: =IF($A22="","",SUMPRODUCT((Formations!$B$6:$B$85=$A22)*(YEAR(Formations!$A$6:$A$85)=$B$5)*(Formations!$J$6:$J$85="Oui")*(Formations!$E$6:$E$85))) | I22: =IF($A22="","",MAX(0,$B$9-H22)) | J22: =IF($A22="","",IF(SUMPRODUCT((Formations!$B$6:$B$85=$A22)*(YEAR(Formations!$A$6:$A$85)=$B$5)*(Formations!$K$6:$K$85="Oui"))>0,"Oui","Non"))
B23: =IF($A23="","",SUMPRODUCT((Formations!$B$6:$B$85=$A23)*(YEAR(Formations!$A$6:$A$85)=$B$5)*(Formations!$G$6:$G$85="Oui")*(Formations!$E$6:$E$85))) | C23: =IF($A23="","",MAX(0,$B$6-B23)) | D23: =IF($A23="","",SUMPRODUCT((Formations!$B$6:$B$85=$A23)*(YEAR(Formations!$A$6:$A$85)=$B$5)*(Formations!$H$6:$H$85="Oui")*(Formations!$E$6:$E$85))) | E23: =IF($A23="","",MAX(0,$B$7-D23)) | F23: =IF($A23="","",SUMPRODUCT((Formations!$B$6:$B$85=$A23)*(YEAR(Formations!$A$6:$A$85)=$B$5)*(Formations!$I$6:$I$85="Oui")*(Formations!$E$6:$E$85))) | G23: =IF($A23="","",MAX(0,$B$8-F23)) | H23: =IF($A23="","",SUMPRODUCT((Formations!$B$6:$B$85=$A23)*(YEAR(Formations!$A$6:$A$85)=$B$5)*(Formations!$J$6:$J$85="Oui")*(Formations!$E$6:$E$85))) | I23: =IF($A23="","",MAX(0,$B$9-H23)) | J23: =IF($A23="","",IF(SUMPRODUCT((Formations!$B$6:$B$85=$A23)*(YEAR(Formations!$A$6:$A$85)=$B$5)*(Formations!$K$6:$K$85="Oui"))>0,"Oui","Non"))

Sheet Mode d'emploi
A1: Mode d'emploi
A2: Comment se servir de ce classeur
A3: Modèle Arkendis — arkendis.com — aide à l'organisation, pas un avis juridique.
A5: Le journal :
A6: Une ligne par formation et par collaborateur. Cochez « Oui » dans chaque colonne de statut que le contenu de la formation couvre réellement : une formation sur l'assurance ne compte pas pour le statut CIF si elle ne traite pas des instruments financiers.
A7: Rangez l'attestation au moment où vous saisissez la ligne. Sans attestation nominative et datée, la formation est invérifiable.
A8: Le bilan :
A9: Inscrivez les collaborateurs en colonne A. Les heures faites et le reste à faire se calculent pour l'année indiquée en B5. Les quotas en B6 à B9 sont ceux connus à la date du modèle ; ajustez-les selon vos statuts et les textes en vigueur.
A10: Un collaborateur qui n'exerce pas un statut a simplement un « reste » égal au quota : ignorez la colonne.
A11: Ce classeur est un modèle. Il ne remplace pas la validation de vos formations par votre association professionnelle.
