Workbook

Sheet Registre
A1: Registre des réclamations
A2: Une ligne par réclamation. Les colonnes suivent ce qu'un contrôle attend.
A3: Modèle Arkendis — arkendis.com — aide à l'organisation, pas un avis juridique.
A5: N° | B5: Date de réception | C5: Canal | D5: Réclamant | E5: Réf. dossier | F5: Objet | G5: Produit / service | H5: Partenaire | I5: Date accusé de réception | J5: En charge | K5: Réponse apportée | L5: Date de réponse | M5: Issue | N5: Suite | O5: Pièces (où)
A6: =IF(B6="","",ROW()-5)
A7: =IF(B7="","",ROW()-5)
A8: =IF(B8="","",ROW()-5)
A9: =IF(B9="","",ROW()-5)
A10: =IF(B10="","",ROW()-5)
A11: =IF(B11="","",ROW()-5)
A12: =IF(B12="","",ROW()-5)
A13: =IF(B13="","",ROW()-5)
A14: =IF(B14="","",ROW()-5)
A15: =IF(B15="","",ROW()-5)
A16: =IF(B16="","",ROW()-5)
A17: =IF(B17="","",ROW()-5)
... A65: =IF(B65="","",ROW()-5)

Sheet Suivi des délais
A1: Suivi des délais
A2: Calculé depuis le registre : accusé de réception sous 10 jours ouvrables, réponse sous 2 mois.
A3: Modèle Arkendis — arkendis.com — aide à l'organisation, pas un avis juridique.
A5: N° | B5: Réception | C5: Limite accusé de réception | D5: Accusé envoyé le | E5: Accusé dans les délais | F5: Limite de réponse | G5: Réponse le | H5: Réponse dans les délais | I5: Jours restants
A6: =IF(Registre!B6="","",Registre!A6) | B6: =IF(Registre!B6="","",Registre!B6) | C6: =IF(B6="","",WORKDAY(B6,10)) | D6: =IF(Registre!I6="","",Registre!I6) | E6: =IF(B6="","",IF(D6="",IF(TODAY()>C6,"EN RETARD","À faire"),IF(D6<=C6,"Oui","Non"))) | F6: =IF(B6="","",EDATE(B6,2)) | G6: =IF(Registre!L6="","",Registre!L6) | H6: =IF(B6="","",IF(G6="",IF(TODAY()>F6,"EN RETARD","À faire"),IF(G6<=F6,"Oui","Non"))) | I6: =IF(OR(B6="",G6<>""),"",F6-TODAY())
A7: =IF(Registre!B7="","",Registre!A7) | B7: =IF(Registre!B7="","",Registre!B7) | C7: =IF(B7="","",WORKDAY(B7,10)) | D7: =IF(Registre!I7="","",Registre!I7) | E7: =IF(B7="","",IF(D7="",IF(TODAY()>C7,"EN RETARD","À faire"),IF(D7<=C7,"Oui","Non"))) | F7: =IF(B7="","",EDATE(B7,2)) | G7: =IF(Registre!L7="","",Registre!L7) | H7: =IF(B7="","",IF(G7="",IF(TODAY()>F7,"EN RETARD","À faire"),IF(G7<=F7,"Oui","Non"))) | I7: =IF(OR(B7="",G7<>""),"",F7-TODAY())
A8: =IF(Registre!B8="","",Registre!A8) | B8: =IF(Registre!B8="","",Registre!B8) | C8: =IF(B8="","",WORKDAY(B8,10)) | D8: =IF(Registre!I8="","",Registre!I8) | E8: =IF(B8="","",IF(D8="",IF(TODAY()>C8,"EN RETARD","À faire"),IF(D8<=C8,"Oui","Non"))) | F8: =IF(B8="","",EDATE(B8,2)) | G8: =IF(Registre!L8="","",Registre!L8) | H8: =IF(B8="","",IF(G8="",IF(TODAY()>F8,"EN RETARD","À faire"),IF(G8<=F8,"Oui","Non"))) | I8: =IF(OR(B8="",G8<>""),"",F8-TODAY())
A9: =IF(Registre!B9="","",Registre!A9) | B9: =IF(Registre!B9="","",Registre!B9) | C9: =IF(B9="","",WORKDAY(B9,10)) | D9: =IF(Registre!I9="","",Registre!I9) | E9: =IF(B9="","",IF(D9="",IF(TODAY()>C9,"EN RETARD","À faire"),IF(D9<=C9,"Oui","Non"))) | F9: =IF(B9="","",EDATE(B9,2)) | G9: =IF(Registre!L9="","",Registre!L9) | H9: =IF(B9="","",IF(G9="",IF(TODAY()>F9,"EN RETARD","À faire"),IF(G9<=F9,"Oui","Non"))) | I9: =IF(OR(B9="",G9<>""),"",F9-TODAY())
A10: =IF(Registre!B10="","",Registre!A10) | B10: =IF(Registre!B10="","",Registre!B10) | C10: =IF(B10="","",WORKDAY(B10,10)) | D10: =IF(Registre!I10="","",Registre!I10) | E10: =IF(B10="","",IF(D10="",IF(TODAY()>C10,"EN RETARD","À faire"),IF(D10<=C10,"Oui","Non"))) | F10: =IF(B10="","",EDATE(B10,2)) | G10: =IF(Registre!L10="","",Registre!L10) | H10: =IF(B10="","",IF(G10="",IF(TODAY()>F10,"EN RETARD","À faire"),IF(G10<=F10,"Oui","Non"))) | I10: =IF(OR(B10="",G10<>""),"",F10-TODAY())
A11: =IF(Registre!B11="","",Registre!A11) | B11: =IF(Registre!B11="","",Registre!B11) | C11: =IF(B11="","",WORKDAY(B11,10)) | D11: =IF(Registre!I11="","",Registre!I11) | E11: =IF(B11="","",IF(D11="",IF(TODAY()>C11,"EN RETARD","À faire"),IF(D11<=C11,"Oui","Non"))) | F11: =IF(B11="","",EDATE(B11,2)) | G11: =IF(Registre!L11="","",Registre!L11) | H11: =IF(B11="","",IF(G11="",IF(TODAY()>F11,"EN RETARD","À faire"),IF(G11<=F11,"Oui","Non"))) | I11: =IF(OR(B11="",G11<>""),"",F11-TODAY())
A12: =IF(Registre!B12="","",Registre!A12) | B12: =IF(Registre!B12="","",Registre!B12) | C12: =IF(B12="","",WORKDAY(B12,10)) | D12: =IF(Registre!I12="","",Registre!I12) | E12: =IF(B12="","",IF(D12="",IF(TODAY()>C12,"EN RETARD","À faire"),IF(D12<=C12,"Oui","Non"))) | F12: =IF(B12="","",EDATE(B12,2)) | G12: =IF(Registre!L12="","",Registre!L12) | H12: =IF(B12="","",IF(G12="",IF(TODAY()>F12,"EN RETARD","À faire"),IF(G12<=F12,"Oui","Non"))) | I12: =IF(OR(B12="",G12<>""),"",F12-TODAY())
A13: =IF(Registre!B13="","",Registre!A13) | B13: =IF(Registre!B13="","",Registre!B13) | C13: =IF(B13="","",WORKDAY(B13,10)) | D13: =IF(Registre!I13="","",Registre!I13) | E13: =IF(B13="","",IF(D13="",IF(TODAY()>C13,"EN RETARD","À faire"),IF(D13<=C13,"Oui","Non"))) | F13: =IF(B13="","",EDATE(B13,2)) | G13: =IF(Registre!L13="","",Registre!L13) | H13: =IF(B13="","",IF(G13="",IF(TODAY()>F13,"EN RETARD","À faire"),IF(G13<=F13,"Oui","Non"))) | I13: =IF(OR(B13="",G13<>""),"",F13-TODAY())
A14: =IF(Registre!B14="","",Registre!A14) | B14: =IF(Registre!B14="","",Registre!B14) | C14: =IF(B14="","",WORKDAY(B14,10)) | D14: =IF(Registre!I14="","",Registre!I14) | E14: =IF(B14="","",IF(D14="",IF(TODAY()>C14,"EN RETARD","À faire"),IF(D14<=C14,"Oui","Non"))) | F14: =IF(B14="","",EDATE(B14,2)) | G14: =IF(Registre!L14="","",Registre!L14) | H14: =IF(B14="","",IF(G14="",IF(TODAY()>F14,"EN RETARD","À faire"),IF(G14<=F14,"Oui","Non"))) | I14: =IF(OR(B14="",G14<>""),"",F14-TODAY())
A15: =IF(Registre!B15="","",Registre!A15) | B15: =IF(Registre!B15="","",Registre!B15) | C15: =IF(B15="","",WORKDAY(B15,10)) | D15: =IF(Registre!I15="","",Registre!I15) | E15: =IF(B15="","",IF(D15="",IF(TODAY()>C15,"EN RETARD","À faire"),IF(D15<=C15,"Oui","Non"))) | F15: =IF(B15="","",EDATE(B15,2)) | G15: =IF(Registre!L15="","",Registre!L15) | H15: =IF(B15="","",IF(G15="",IF(TODAY()>F15,"EN RETARD","À faire"),IF(G15<=F15,"Oui","Non"))) | I15: =IF(OR(B15="",G15<>""),"",F15-TODAY())
A16: =IF(Registre!B16="","",Registre!A16) | B16: =IF(Registre!B16="","",Registre!B16) | C16: =IF(B16="","",WORKDAY(B16,10)) | D16: =IF(Registre!I16="","",Registre!I16) | E16: =IF(B16="","",IF(D16="",IF(TODAY()>C16,"EN RETARD","À faire"),IF(D16<=C16,"Oui","Non"))) | F16: =IF(B16="","",EDATE(B16,2)) | G16: =IF(Registre!L16="","",Registre!L16) | H16: =IF(B16="","",IF(G16="",IF(TODAY()>F16,"EN RETARD","À faire"),IF(G16<=F16,"Oui","Non"))) | I16: =IF(OR(B16="",G16<>""),"",F16-TODAY())
A17: =IF(Registre!B17="","",Registre!A17) | B17: =IF(Registre!B17="","",Registre!B17) | C17: =IF(B17="","",WORKDAY(B17,10)) | D17: =IF(Registre!I17="","",Registre!I17) | E17: =IF(B17="","",IF(D17="",IF(TODAY()>C17,"EN RETARD","À faire"),IF(D17<=C17,"Oui","Non"))) | F17: =IF(B17="","",EDATE(B17,2)) | G17: =IF(Registre!L17="","",Registre!L17) | H17: =IF(B17="","",IF(G17="",IF(TODAY()>F17,"EN RETARD","À faire"),IF(G17<=F17,"Oui","Non"))) | I17: =IF(OR(B17="",G17<>""),"",F17-TODAY())
... A65: =IF(Registre!B65="","",Registre!A65) | B65: =IF(Registre!B65="","",Registre!B65) | C65: =IF(B65="","",WORKDAY(B65,10)) | D65: =IF(Registre!I65="","",Registre!I65) | E65: =IF(B65="","",IF(D65="",IF(TODAY()>C65,"EN RETARD","À faire"),IF(D65<=C65,"Oui","Non"))) | F65: =IF(B65="","",EDATE(B65,2)) | G65: =IF(Registre!L65="","",Registre!L65) | H65: =IF(B65="","",IF(G65="",IF(TODAY()>F65,"EN RETARD","À faire"),IF(G65<=F65,"Oui","Non"))) | I65: =IF(OR(B65="",G65<>""),"",F65-TODAY())

Sheet Mode d'emploi
A1: Mode d'emploi
A2: Comment se servir de ce classeur
A3: Modèle Arkendis — arkendis.com — aide à l'organisation, pas un avis juridique.
A5: Le registre :
A6: Une ligne par réclamation, même si elle vous paraît infondée. Le numéro se calcule seul. Ne supprimez jamais une ligne : clôturez-la dans la colonne « Suite ».
A7: Une demande d'information, d'avis ou de prestation n'est pas une réclamation. En cas de doute, inscrivez.
A8: Le suivi des délais :
A9: Cette feuille lit le registre et calcule la date limite de l'accusé de réception (dix jours ouvrables) et de la réponse (deux mois). Elle signale ce qui est en retard. Les jours fériés ne sont pas déduits : ajoutez-les si besoin en troisième argument de WORKDAY.
A10: La conservation :
A11: Gardez ce registre et les pièces au moins cinq ans. Un registre vide, daté, prouve l'absence de réclamation ; l'absence de registre ne prouve rien.
A12: Ce classeur est un modèle. Il ne remplace ni la procédure écrite de traitement des réclamations, ni les attentes de votre association professionnelle.
